Workbook

Sheet intro
B7: Öffentliche Finanzen der Schweiz gemäss FS und GFS Modellen
B8: Finances des administrations publiques selon les modèles SF et SFP
B9: Finanze delle amministrazioni pubbliche, secondo i modelli SF e GFS
B10: Government Finance Statistics, FS and GFS Model
B13: Wählen Sie bitte Ihre Sprache
B14: Choisissez votre langue s.v.p.
B15: Selezionare la lingua p.f.
B16: Please choose your language

Sheet overview
B2: =IF(desc!$B$1=1,desc!$A$8,IF(desc!$B$1=2,desc!$B$8,IF(desc!$B$1=3,desc!$C$8,desc!$D$8))) -> Finanzen der öffentlichen Haushalte und Sozialversicherungen
B4: =IF(desc!$B$1=1,desc!$A$9,IF(desc!$B$1=2,desc!$B$9,IF(desc!$B$1=3,desc!$C$9,desc!$D$9))) -> Stand 21.10.2025
B9: =IF(desc!$B$1=1,desc!$A$10,IF(desc!$B$1=2,desc!$B$10,IF(desc!$B$1=3,desc!$C$10,desc!$D$10))) -> Die Auswertungen der Finanzstatistik umfassen folgende Elemente:
B11: =IF(desc!$B$1=1,desc!$A$18,IF(desc!$B$1=2,desc!$B$18,IF(desc!$B$1=3,desc!$C$18,desc!$D$18))) -> FS-Modell | C11: =IF(desc!$B$1=1,desc!$A$19,IF(desc!$B$1=2,desc!$B$19,IF(desc!$B$1=3,desc!$C$19,desc!$D$19))) -> Konsolidierte und harmonisierte Finanzberichterstattung von Bund, Kantonen, Gemeinden und öffentlichen Sozialversicherungen auf der Basis der Rechnungslegungsmodelle des Bundes sowie der Kantone und Gemeinden (NRM und HRM2) mit dem Ziel der nationalen Vergleichbarkeit.
B12: =IF(desc!$B$1=1,desc!$A$13,IF(desc!$B$1=2,desc!$B$13,IF(desc!$B$1=3,desc!$C$13,desc!$D$13))) -> Grundlage | C12: =IF(desc!$B$1=1,desc!$A$20,IF(desc!$B$1=2,desc!$B$20,IF(desc!$B$1=3,desc!$C$20,desc!$D$20))) -> Nationale Rechnungslegungsmodelle des Bundes (NRM) sowie der Kantone und Gemeinden (HRM2)
B13: =IF(desc!$B$1=1,desc!$A$14,IF(desc!$B$1=2,desc!$B$14,IF(desc!$B$1=3,desc!$C$14,desc!$D$14))) -> Ziel | C13: =IF(desc!$B$1=1,desc!$A$21,IF(desc!$B$1=2,desc!$B$21,IF(desc!$B$1=3,desc!$C$21,desc!$D$21))) -> Nationale Vergleichbarkeit der öffentlichen Haushalte
B14: =IF(desc!$B$1=1,desc!$A$15,IF(desc!$B$1=2,desc!$B$15,IF(desc!$B$1=3,desc!$C$15,desc!$D$15))) -> Ergebnisse | C14: =IF(desc!$B$1=1,desc!$A$22,IF(desc!$B$1=2,desc!$B$22,IF(desc!$B$1=3,desc!$C$22,desc!$D$22))) -> Erfolgs-, Investitions-, Finanzierungsrechnung und Bilanz
B15: =IF(desc!$B$1=1,desc!$A$16,IF(desc!$B$1=2,desc!$B$16,IF(desc!$B$1=3,desc!$C$16,desc!$D$16))) -> Abdeckung | C15: =IF(desc!$B$1=1,desc!$A$23,IF(desc!$B$1=2,desc!$B$23,IF(desc!$B$1=3,desc!$C$23,desc!$D$23))) -> Auf Stufe Wirtschaftsteilsektor (Bund, Kantone, Gemeinden, öffentliche Sozial-versicherungen) und Gesamtsektor Staat bis auf Stufe einzelner Haushalte (Städte und Kantonshauptorte, Kantone, Sozialversicherungen)
B17: =IF(desc!$B$1=1,desc!$A$24,IF(desc!$B$1=2,desc!$B$24,IF(desc!$B$1=3,desc!$C$24,desc!$D$24))) -> GFS-Modell | C17: =IF(desc!$B$1=1,desc!$A$25,IF(desc!$B$1=2,desc!$B$25,IF(desc!$B$1=3,desc!$C$25,desc!$D$25))) -> Die Publikation der Kennzahlen zu den öffentlichen Finanzen der Schweiz erfolgt zwecks internationaler Vergleichbarkeit gemäss den Finanzstatistikrichtlinien des internationalen Währungsfonds (IWF), dem Government Finance Statistics Manual (GFSM 2014).
B18: =IF(desc!$B$1=1,desc!$A$13,IF(desc!$B$1=2,desc!$B$13,IF(desc!$B$1=3,desc!$C$13,desc!$D$13))) -> Grundlage | C18: =IF(desc!$B$1=1,desc!$A$26,IF(desc!$B$1=2,desc!$B$26,IF(desc!$B$1=3,desc!$C$26,desc!$D$26))) -> Finanzstatistikrichtlinien des IWF (GFSM 2014), die mit dem Europäischen System Volkswirtschaftlicher Gesamtrechnungen (ESVG 2010) kompatibel sind und wie dieses auf dem Standardreferenzwerk der Wirtschaftsstatistik, dem System of National Accounts (SNA 2008), beruhen.
B19: =IF(desc!$B$1=1,desc!$A$14,IF(desc!$B$1=2,desc!$B$14,IF(desc!$B$1=3,desc!$C$14,desc!$D$14))) -> Ziel | C19: =IF(desc!$B$1=1,desc!$A$27,IF(desc!$B$1=2,desc!$B$27,IF(desc!$B$1=3,desc!$C$27,desc!$D$27))) -> Internationale Vergleichbarkeit des Wirtschaftssektors Staat und seiner Teilsektoren
B20: =IF(desc!$B$1=1,desc!$A$15,IF(desc!$B$1=2,desc!$B$15,IF(desc!$B$1=3,desc!$C$15,desc!$D$15))) -> Ergebnisse | C20: =IF(desc!$B$1=1,desc!$A$28,IF(desc!$B$1=2,desc!$B$28,IF(desc!$B$1=3,desc!$C$28,desc!$D$28))) -> Erfolgs-, Anlage- und Vermögensrechnung (Bilanz)
B21: =IF(desc!$B$1=1,desc!$A$16,IF(desc!$B$1=2,desc!$B$16,IF(desc!$B$1=3,desc!$C$16,desc!$D$16))) -> Abdeckung | C21: =IF(desc!$B$1=1,desc!$A$29,IF(desc!$B$1=2,desc!$B$29,IF(desc!$B$1=3,desc!$C$29,desc!$D$29))) -> Auf Stufe Wirtschaftsteilsektor (Bund, Kantone, Gemeinden, öffentliche Sozial-versicherungen) und Sektor Staat
B25: =IF(desc!$B$1=1,desc!$A$12,IF(desc!$B$1=2,desc!$B$12,IF(desc!$B$1=3,desc!$C$12,desc!$D$12))) -> Grundlagen der Daten der Finanzstatistik
B27: =IF(desc!$B$1=1,desc!$A$30,IF(desc!$B$1=2,desc!$B$30,IF(desc!$B$1=3,desc!$C$30,desc!$D$30))) -> Teilsektor | C27: =IF(desc!$B$1=1,desc!$A$31,IF(desc!$B$1=2,desc!$B$31,IF(desc!$B$1=3,desc!$C$31,desc!$D$31))) -> bis 2023 | D27: 2024 | E27: 2025 | F27: 2026-2029
B28: =IF(desc!$B$1=1,desc!$A$32,IF(desc!$B$1=2,desc!$B$32,IF(desc!$B$1=3,desc!$C$32,desc!$D$32))) -> Staat | C28: =IF(desc!$B$1=1,desc!$A$38,IF(desc!$B$1=2,desc!$B$38,IF(desc!$B$1=3,desc!$C$38,desc!$D$38))) -> Rechnung | D28: =IF(desc!$B$1=1,desc!$A$44,IF(desc!$B$1=2,desc!$B$44,IF(desc!$B$1=3,desc!$C$44,desc!$D$44))) -> Prognosen | E28: =IF(desc!$B$1=1,desc!$A$44,IF(desc!$B$1=2,desc!$B$44,IF(desc!$B$1=3,desc!$C$44,desc!$D$44))) -> Prognosen | F28: =IF(desc!$B$1=1,desc!$A$44,IF(desc!$B$1=2,desc!$B$44,IF(desc!$B$1=3,desc!$C$44,desc!$D$44))) -> Prognosen
B29: =IF(desc!$B$1=1,desc!$A$34,IF(desc!$B$1=2,desc!$B$34,IF(desc!$B$1=3,desc!$C$34,desc!$D$34))) -> Bund | C29: =IF(desc!$B$1=1,desc!$A$38,IF(desc!$B$1=2,desc!$B$38,IF(desc!$B$1=3,desc!$C$38,desc!$D$38))) -> Rechnung | D29: =IF(desc!$B$1=1,desc!$A$38,IF(desc!$B$1=2,desc!$B$38,IF(desc!$B$1=3,desc!$C$38,desc!$D$38))) -> Rechnung | E29: =IF(desc!$B$1=1,desc!$A$47,IF(desc!$B$1=2,desc!$B$47,IF(desc!$B$1=3,desc!$C$47,desc!$D$47))) -> Hochrechnung | F29: =IF(desc!$B$1=1,desc!$A$41,IF(desc!$B$1=2,desc!$B$41,IF(desc!$B$1=3,desc!$C$41,desc!$D$41))) -> Budget/Finanzpläne
B30: =IF(desc!$B$1=1,desc!$A$35,IF(desc!$B$1=2,desc!$B$35,IF(desc!$B$1=3,desc!$C$35,desc!$D$35))) -> Kantone | C30: =IF(desc!$B$1=1,desc!$A$38,IF(desc!$B$1=2,desc!$B$38,IF(desc!$B$1=3,desc!$C$38,desc!$D$38))) -> Rechnung | D30: =IF(desc!$B$1=1,desc!$A$49,IF(desc!$B$1=2,desc!$B$49,IF(desc!$B$1=3,desc!$C$49,desc!$D$49))) -> Vorhandene Daten | E30: =IF(desc!$B$1=1,desc!$A$46,IF(desc!$B$1=2,desc!$B$46,IF(desc!$B$1=3,desc!$C$46,desc!$D$46))) -> Umfrage Budget | F30: =IF(desc!$B$1=1,desc!$A$44,IF(desc!$B$1=2,desc!$B$44,IF(desc!$B$1=3,desc!$C$44,desc!$D$44))) -> Prognosen
B31: =IF(desc!$B$1=1,desc!$A$36,IF(desc!$B$1=2,desc!$B$36,IF(desc!$B$1=3,desc!$C$36,desc!$D$36))) -> Gemeinden | C31: =IF(desc!$B$1=1,desc!$A$38,IF(desc!$B$1=2,desc!$B$38,IF(desc!$B$1=3,desc!$C$38,desc!$D$38))) -> Rechnung | D31: =IF(desc!$B$1=1,desc!$A$44,IF(desc!$B$1=2,desc!$B$44,IF(desc!$B$1=3,desc!$C$44,desc!$D$44))) -> Prognosen | E31: =IF(desc!$B$1=1,desc!$A$44,IF(desc!$B$1=2,desc!$B$44,IF(desc!$B$1=3,desc!$C$44,desc!$D$44))) -> Prognosen | F31: =IF(desc!$B$1=1,desc!$A$44,IF(desc!$B$1=2,desc!$B$44,IF(desc!$B$1=3,desc!$C$44,desc!$D$44))) -> Prognosen
B32: =IF(desc!$B$1=1,desc!$A$37,IF(desc!$B$1=2,desc!$B$37,IF(desc!$B$1=3,desc!$C$37,desc!$D$37))) -> Sozialversicherungen | C32: =IF(desc!$B$1=1,desc!$A$38,IF(desc!$B$1=2,desc!$B$38,IF(desc!$B$1=3,desc!$C$38,desc!$D$38))) -> Rechnung | D32: =IF(desc!$B$1=1,desc!$A$38,IF(desc!$B$1=2,desc!$B$38,IF(desc!$B$1=3,desc!$C$38,desc!$D$38))) -> Rechnung | E32: =IF(desc!$B$1=1,desc!$A$41,IF(desc!$B$1=2,desc!$B$41,IF(desc!$B$1=3,desc!$C$41,desc!$D$41))) -> Budget/Finanzpläne | F32: =IF(desc!$B$1=1,desc!$A$41,IF(desc!$B$1=2,desc!$B$41,IF(desc!$B$1=3,desc!$C$41,desc!$D$41))) -> Budget/Finanzpläne

Sheet desc
A1: Language | B1: 1 | C1: 1 | D1: Deutsch
C2: 2 | D2: Français
C3: 3 | D3: Italiano
C4: 4 | D4: English
A7: D | B7: F | C7: I | D7: E | E7: Choix
A8: Finanzen der öffentlichen Haushalte und Sozialversicherungen | B8: Finances des administrations publiques | C8: Finanze delle amministrazioni pubbliche | D8: Government Finance Statistics | E8: =IF($B$1=1,A8,IF($B$1=2,B8,IF($B$1=3,C8,D8))) -> Finanzen der öffentlichen Haushalte und Sozialversicherungen
A9: Stand 21.10.2025 | B9: Etat au 21.10.2025 | C9: Stato: 21.10.2025 | D9: State: 21.10.2025 | E9: =IF($B$1=1,A9,IF($B$1=2,B9,IF($B$1=3,C9,D9))) -> Stand 21.10.2025
A10: Die Auswertungen der Finanzstatistik umfassen folgende Elemente: | B10: La statistique financière fournit les éléments suivants: | C10: Le analisi della statistica finanziaria comprendono i seguenti elementi: | D10: The reporting of Swiss government finance statistics covers the following parts: | E10: =IF($B$1=1,A10,IF($B$1=2,B10,IF($B$1=3,C10,D10))) -> Die Auswertungen der Finanzstatistik umfassen folgende Elemente:
A11: Grundlagen der Daten der Finanzstatistik, September 2018 | B11: Fondement des données de la statistique financière, septembre 2018 | C11: Basi dei dati della statistica finanziaria, settembre 2018 | D11: Basis of financial statistics data, September 2018 | E11: =IF($B$1=1,A11,IF($B$1=2,B11,IF($B$1=3,C11,D11))) -> Grundlagen der Daten der Finanzstatistik, September 2018
A12: Grundlagen der Daten der Finanzstatistik | B12: Fondement des données de la statistique financière | C12: Basi dei dati della statistica finanziaria | D12: Basis of financial statistics data | E12: =IF($B$1=1,A12,IF($B$1=2,B12,IF($B$1=3,C12,D12))) -> Grundlagen der Daten der Finanzstatistik
A13: Grundlage | B13: Base | C13: Base | D13: Basis | E13: =IF($B$1=1,A13,IF($B$1=2,B13,IF($B$1=3,C13,D13))) -> Grundlage
A14: Ziel | B14: Objectifs | C14: Obiettivo | D14: Objective | E14: =IF($B$1=1,A14,IF($B$1=2,B14,IF($B$1=3,C14,D14))) -> Ziel
A15: Ergebnisse | B15: Résultats | C15: Risultato | D15: Results | E15: =IF($B$1=1,A15,IF($B$1=2,B15,IF($B$1=3,C15,D15))) -> Ergebnisse
A16: Abdeckung | B16: Etendue de l'évaluation | C16: Copertura | D16: Scope | E16: =IF($B$1=1,A16,IF($B$1=2,B16,IF($B$1=3,C16,D16))) -> Abdeckung
A17: Darstellung | B17: Présentation | C17: Rappresentazione | D17: Presentation | E17: =IF($B$1=1,A17,IF($B$1=2,B17,IF($B$1=3,C17,D17))) -> Darstellung
A18: FS-Modell | B18: Modèle SF | C18: Modello SF | D18: FS Model | E18: =IF($B$1=1,A18,IF($B$1=2,B18,IF($B$1=3,C18,D18))) -> FS-Modell
A19: Konsolidierte und harmonisierte Finanzberichterstattung von Bund, Kantonen, Gemeinden und öffentlichen Sozialversicherungen auf der Basis der Rechnungslegungsmodelle des Bundes sowie der Kantone und Gemeinden (NRM und HRM2) mit dem Ziel der nationalen Vergleichbarkeit. | B19: Rapports financiers consolidés et harmonisés concernant la Confédération, les cantons, les communes et les assurances sociales publiques, sur la base des modèles comptables de la Confédération, des cantons et des communes (NMC, MCH2) et à des fins de comparaison sur le plan national. | C19: Rendiconto finanziario consolidato e armonizzato di Confederazione, Cantoni, Comuni e assicurazioni sociali pubbliche sulla base del Nuovo modello contabile della Confederazione (NMC) e del Nuovo modello di presentazione dei conti armonizzato per i Cantoni e i Comuni (MPCA2) al fine di consentire il confronto a livello nazionale. | D19: Consolidated and harmonized financial reporting of the Confederation, cantons, municipalities and social security funds based on the accounting models of the Confederation and of the cantons and municipalities (NAM, HAM2) in order to ensure national comparability. | E19: =IF($B$1=1,A19,IF($B$1=2,B19,IF($B$1=3,C19,D19))) -> Konsolidierte und harmonisierte Finanzberichterstattung von Bund, Kantonen, Gemeinden und öffentlichen Sozialversicherungen auf der Basis der Rechnungslegungsmodelle des Bundes sowie der Kantone und Gemeinden (NRM und HRM2) mit dem Ziel der nationalen Vergleichbarkeit.
... A107: Vorhandene Daten | B107: Données disponibles | C107: Dati disponibili | D107: Data available | E107: =IF($B$1=1,A107,IF($B$1=2,B107,IF($B$1=3,C107,D107))) -> Vorhandene Daten
E108: =IF($B$1=1,A108,IF($B$1=2,B108,IF($B$1=3,C108,D108))) -> 0
A109: Grafik | E109: =IF($B$1=1,A109,IF($B$1=2,B109,IF($B$1=3,C109,D109))) -> Grafik
A110: Finanzierungsergebnis 1990-2029: FS-Modell, in Mio. CHF | B110: Solde de financement 1990-2029: modèle SF, en millions CHF | C110: 1990-2029 Chiusure dei conti: modello FS, in milioni CHF | D110: 1990-2029 Overall fiscal balance: FS-Model, in million CHF | E110: =IF($B$1=1,A110,IF($B$1=2,B110,IF($B$1=3,C110,D110))) -> Finanzierungsergebnis 1990-2029: FS-Modell, in Mio. CHF
A111: Defizit-/Überschussquote der öffentlichen Haushalte 1990-2029, in % des BIP | B111: Quote-part du déficit ou de l'excédent des administrations publiques 1990-2029, en % du PIB | C111: 1990-2029 Quota del deficit / dell'eccedenza, In % del PIL | D111: 1990-2029 Deficit/surplus ratio of public budgets, as % of GDP | E111: =IF($B$1=1,A111,IF($B$1=2,B111,IF($B$1=3,C111,D111))) -> Defizit-/Überschussquote der öffentlichen Haushalte 1990-2029, in % des BIP
A112: Fiskalquote und Staatsquote der öffentlichen Haushalte 1990-2029, in % des BIP | B112: Quote-part fiscale et quote-part de l'Etat des administrations publiques 1990-2029, en % du PIB | C112: Aliquota fiscale e quota di incidenza della spesa pubblica delle amministrazioni pubbliche 1990-2029, in % del PIL | D112: 1990-2029 tax-to-GDP ratio and general government expenditure ratio of government units, in % of GDP | E112: =IF($B$1=1,A112,IF($B$1=2,B112,IF($B$1=3,C112,D112))) -> Fiskalquote und Staatsquote der öffentlichen Haushalte 1990-2029, in % des BIP
A113: Finanzierungssaldi 1990-2029: GFS-Modell, in Mio. CHF | B113: Solde de financement 1990-2029: modèle SFP, en millions CHF | C113: 1990-2029 Chiusure dei conti: modello GFS, in milioni CHF | D113: 1990-2029 Overall fiscal balance: GFS-Model, in million CHF | E113: =IF($B$1=1,A113,IF($B$1=2,B113,IF($B$1=3,C113,D113))) -> Finanzierungssaldi 1990-2029: GFS-Modell, in Mio. CHF
A114: alt: Bruttoschulden der öffentlichen Haushalte; 1990-2022 | B114: alt: Taux d'endettement des administrations publiques; 1990-2022 | C114: alt: Quota d'indebitamento; 1990-2022 | D114: alt: Gross debt ratio of general government; 1990-2022 | E114: =IF($B$1=1,A114,IF($B$1=2,B114,IF($B$1=3,C114,D114))) -> alt: Bruttoschulden der öffentlichen Haushalte; 1990-2022
A115: Maastricht-Schuld der öffentlichen Haushalte; 1990-2029 | B115: Dette selon Maastricht des administrations publiques; 1990-2029 | C115: Debito secondo Maastricht; 1990-2029 | D115: Maastricht debt of general government; 1990-2029 | E115: =IF($B$1=1,A115,IF($B$1=2,B115,IF($B$1=3,C115,D115))) -> Maastricht-Schuld der öffentlichen Haushalte; 1990-2029
A116: Mrd. CHF | B116: mrd CHF | C116: Mia. CHF | D116: in CHF bn | E116: =IF($B$1=1,A116,IF($B$1=2,B116,IF($B$1=3,C116,D116))) -> Mrd. CHF
A117: % des BIP | B117: % du PIB | C117: % del PIL | D117: in % of GDP | E117: =IF($B$1=1,A117,IF($B$1=2,B117,IF($B$1=3,C117,D117))) -> % des BIP
A118: Schuldenquote nach Maastricht und Fremdkapitalquote gemäss IWF; in % des BIP | B118: Taux d’endettement selon Maastricht et quote-part des capitaux de tiers FMI; en % du PIB | C118: Quota d'indebitamento secondo Maastricht e del FMI; in % del PIL | D118: Gross debt ratio of general government according to the Maastricht definition and to IMF; as % of GDP | E118: =IF($B$1=1,A118,IF($B$1=2,B118,IF($B$1=3,C118,D118))) -> Schuldenquote nach Maastricht und Fremdkapitalquote gemäss IWF; in % des BIP
A119: Fremdkapitalquote (IWF) | B119: Quote-part des capitaux de tiers (FMI) | C119: Quota di capitale di terzi (FMI) | D119: Gross Debt Ratio (IMF) | E119: =IF($B$1=1,A119,IF($B$1=2,B119,IF($B$1=3,C119,D119))) -> Fremdkapitalquote (IWF)
A120: Schuldenquote (Maastricht) | B120: Taux d'endettement (Maastricht) | C120: Tasso d’indebitamento (Maastricht) | D120: Debt Ratio (Maastricht) | E120: =IF($B$1=1,A120,IF($B$1=2,B120,IF($B$1=3,C120,D120))) -> Schuldenquote (Maastricht)
A121: Einnahmenquote | B121: Quote-part des recettes | C121: Quota delle entrate | D121: Revenue ratio | E121: =IF($B$1=1,A121,IF($B$1=2,B121,IF($B$1=3,C121,D121))) -> Einnahmenquote
... A195: inkl. Beiträge Versicherte und Arbeitgeber an die berufliche Vorsorge sowie Beiträge Versicherte (Prämien abzüglich Prämienverbilligungen) an die obligatorische Krankenversicherung | B195: y compris les cotisations des assurés et des employeurs à la prévoyance professionnelle ainsi que les cotisations des assurés (primes moins réductions de primes) à l'assurance-maladie obligatoire | C195: inclusi i contributi degli assicurati e dei datori di lavoro ai regimi pensionistici professionali e i contributi degli assicurati (premi meno riduzioni dei premi) all'assicurazione sanitaria obbligatoria | D195: incl. contributions of insured persons and employers to occupational pension schemes and contributions of insured persons (premiums less premium reductions) to compulsory health insurance | E195: =IF($B$1=1,A195,IF($B$1=2,B195,IF($B$1=3,C195,D195))) -> inkl. Beiträge Versicherte und Arbeitgeber an die berufliche Vorsorge sowie Beiträge Versicherte (Prämien abzüglich Prämienverbilligungen) an die obligatorische Krankenversicherung

Sheet fs
C1: =IF(desc!$B$1=1,desc!$A$18,IF(desc!$B$1=2,desc!$B$18,IF(desc!$B$1=3,desc!$C$18,desc!$D$18))) -> FS-Modell
C2: =IF(desc!$B$1=1,desc!$A$50,IF(desc!$B$1=2,desc!$B$50,IF(desc!$B$1=3,desc!$C$50,desc!$D$50))) -> in Millionen CHF | F2: =IF(desc!$B$1=1,desc!$A$44,IF(desc!$B$1=2,desc!$B$44,IF(desc!$B$1=3,desc!$C$44,desc!$D$44))) -> Prognosen
C3: =IF(desc!$B$1=1,desc!$A$51,IF(desc!$B$1=2,desc!$B$51,IF(desc!$B$1=3,desc!$C$51,desc!$D$51))) -> Finanzierungsrechnung | AM3: =IF(desc!$B$1=1,desc!$A$52,IF(desc!$B$1=2,desc!$B$52,IF(desc!$B$1=3,desc!$C$52,desc!$D$52))) -> Bilanz | BE3: =IF(desc!$B$1=1,desc!$A$122,IF(desc!$B$1=2,desc!$B$122,IF(desc!$B$1=3,desc!$C$122,desc!$D$122))) -> Bruttoschulden FS | BK3: =IF(desc!$B$1=1,desc!$A$189,IF(desc!$B$1=2,desc!$B$189,IF(desc!$B$1=3,desc!$C$189,desc!$D$189))) -> Nettoschuld 1
C4: =IF(desc!$B$1=1,desc!$A$32,IF(desc!$B$1=2,desc!$B$32,IF(desc!$B$1=3,desc!$C$32,desc!$D$32))) -> Staat | I4: =IF(desc!$B$1=1,desc!$A$33,IF(desc!$B$1=2,desc!$B$33,IF(desc!$B$1=3,desc!$C$33,desc!$D$33))) -> Bund, Kantone, Gemeinden | O4: =IF(desc!$B$1=1,desc!$A$34,IF(desc!$B$1=2,desc!$B$34,IF(desc!$B$1=3,desc!$C$34,desc!$D$34))) -> Bund | U4: =IF(desc!$B$1=1,desc!$A$35,IF(desc!$B$1=2,desc!$B$35,IF(desc!$B$1=3,desc!$C$35,desc!$D$35))) -> Kantone | AA4: =IF(desc!$B$1=1,desc!$A$36,IF(desc!$B$1=2,desc!$B$36,IF(desc!$B$1=3,desc!$C$36,desc!$D$36))) -> Gemeinden | AG4: =IF(desc!$B$1=1,desc!$A$37,IF(desc!$B$1=2,desc!$B$37,IF(desc!$B$1=3,desc!$C$37,desc!$D$37))) -> Sozialversicherungen | AM4: =IF(desc!$B$1=1,desc!$A$32,IF(desc!$B$1=2,desc!$B$32,IF(desc!$B$1=3,desc!$C$32,desc!$D$32))) -> Staat | AP4: =IF(desc!$B$1=1,desc!$A$33,IF(desc!$B$1=2,desc!$B$33,IF(desc!$B$1=3,desc!$C$33,desc!$D$33))) -> Bund, Kantone, Gemeinden | AS4: =IF(desc!$B$1=1,desc!$A$34,IF(desc!$B$1=2,desc!$B$34,IF(desc!$B$1=3,desc!$C$34,desc!$D$34))) -> Bund | AV4: =IF(desc!$B$1=1,desc!$A$35,IF(desc!$B$1=2,desc!$B$35,IF(desc!$B$1=3,desc!$C$35,desc!$D$35))) -> Kantone | AY4: =IF(desc!$B$1=1,desc!$A$36,IF(desc!$B$1=2,desc!$B$36,IF(desc!$B$1=3,desc!$C$36,desc!$D$36))) -> Gemeinden | BB4: =IF(desc!$B$1=1,desc!$A$37,IF(desc!$B$1=2,desc!$B$37,IF(desc!$B$1=3,desc!$C$37,desc!$D$37))) -> Sozialversicherungen | BE4: =IF(desc!$B$1=1,desc!$A$32,IF(desc!$B$1=2,desc!$B$32,IF(desc!$B$1=3,desc!$C$32,desc!$D$32))) -> Staat | BF4: =IF(desc!$B$1=1,desc!$A$33,IF(desc!$B$1=2,desc!$B$33,IF(desc!$B$1=3,desc!$C$33,desc!$D$33))) -> Bund, Kantone, Gemeinden | BG4: =IF(desc!$B$1=1,desc!$A$34,IF(desc!$B$1=2,desc!$B$34,IF(desc!$B$1=3,desc!$C$34,desc!$D$34))) -> Bund | BH4: =IF(desc!$B$1=1,desc!$A$35,IF(desc!$B$1=2,desc!$B$35,IF(desc!$B$1=3,desc!$C$35,desc!$D$35))) -> Kantone | BI4: =IF(desc!$B$1=1,desc!$A$36,IF(desc!$B$1=2,desc!$B$36,IF(desc!$B$1=3,desc!$C$36,desc!$D$36))) -> Gemeinden | BJ4: =IF(desc!$B$1=1,desc!$A$37,IF(desc!$B$1=2,desc!$B$37,IF(desc!$B$1=3,desc!$C$37,desc!$D$37))) -> Sozialversicherungen | BK4: =IF(desc!$B$1=1,desc!$A$32,IF(desc!$B$1=2,desc!$B$32,IF(desc!$B$1=3,desc!$C$32,desc!$D$32))) -> Staat | BL4: =IF(desc!$B$1=1,desc!$A$33,IF(desc!$B$1=2,desc!$B$33,IF(desc!$B$1=3,desc!$C$33,desc!$D$33))) -> Bund, Kantone, Gemeinden | BM4: =IF(desc!$B$1=1,desc!$A$34,IF(desc!$B$1=2,desc!$B$34,IF(desc!$B$1=3,desc!$C$34,desc!$D$34))) -> Bund | BN4: =IF(desc!$B$1=1,desc!$A$35,IF(desc!$B$1=2,desc!$B$35,IF(desc!$B$1=3,desc!$C$35,desc!$D$35))) -> Kantone | BO4: =IF(desc!$B$1=1,desc!$A$36,IF(desc!$B$1=2,desc!$B$36,IF(desc!$B$1=3,desc!$C$36,desc!$D$36))) -> Gemeinden | BP4: =IF(desc!$B$1=1,desc!$A$37,IF(desc!$B$1=2,desc!$B$37,IF(desc!$B$1=3,desc!$C$37,desc!$D$37))) -> Sozialversicherungen
C5: =IF(desc!$B$1=1,desc!$A$55,IF(desc!$B$1=2,desc!$B$55,IF(desc!$B$1=3,desc!$C$55,desc!$D$55))) -> Einnahmen | D5: =IF(desc!$B$1=1,desc!$A$56,IF(desc!$B$1=2,desc!$B$56,IF(desc!$B$1=3,desc!$C$56,desc!$D$56))) -> Ausgaben | E5: =IF(desc!$B$1=1,desc!$A$57,IF(desc!$B$1=2,desc!$B$57,IF(desc!$B$1=3,desc!$C$57,desc!$D$57))) -> Finanzierungsergebnis | F5: =IF(desc!$B$1=1,desc!$A$58,IF(desc!$B$1=2,desc!$B$58,IF(desc!$B$1=3,desc!$C$58,desc!$D$58))) -> Ordentliche Einnahmen | G5: =IF(desc!$B$1=1,desc!$A$59,IF(desc!$B$1=2,desc!$B$59,IF(desc!$B$1=3,desc!$C$59,desc!$D$59))) -> Ordentliche Ausgaben | H5: =IF(desc!$B$1=1,desc!$A$60,IF(desc!$B$1=2,desc!$B$60,IF(desc!$B$1=3,desc!$C$60,desc!$D$60))) -> Ordentliches Finanzierungsergebnis | I5: =IF(desc!$B$1=1,desc!$A$55,IF(desc!$B$1=2,desc!$B$55,IF(desc!$B$1=3,desc!$C$55,desc!$D$55))) -> Einnahmen | J5: =IF(desc!$B$1=1,desc!$A$56,IF(desc!$B$1=2,desc!$B$56,IF(desc!$B$1=3,desc!$C$56,desc!$D$56))) -> Ausgaben | K5: =IF(desc!$B$1=1,desc!$A$57,IF(desc!$B$1=2,desc!$B$57,IF(desc!$B$1=3,desc!$C$57,desc!$D$57))) -> Finanzierungsergebnis | L5: =IF(desc!$B$1=1,desc!$A$58,IF(desc!$B$1=2,desc!$B$58,IF(desc!$B$1=3,desc!$C$58,desc!$D$58))) -> Ordentliche Einnahmen | M5: =IF(desc!$B$1=1,desc!$A$59,IF(desc!$B$1=2,desc!$B$59,IF(desc!$B$1=3,desc!$C$59,desc!$D$59))) -> Ordentliche Ausgaben | N5: =IF(desc!$B$1=1,desc!$A$60,IF(desc!$B$1=2,desc!$B$60,IF(desc!$B$1=3,desc!$C$60,desc!$D$60))) -> Ordentliches Finanzierungsergebnis | O5: =IF(desc!$B$1=1,desc!$A$55,IF(desc!$B$1=2,desc!$B$55,IF(desc!$B$1=3,desc!$C$55,desc!$D$55))) -> Einnahmen | P5: =IF(desc!$B$1=1,desc!$A$56,IF(desc!$B$1=2,desc!$B$56,IF(desc!$B$1=3,desc!$C$56,desc!$D$56))) -> Ausgaben | Q5: =IF(desc!$B$1=1,desc!$A$57,IF(desc!$B$1=2,desc!$B$57,IF(desc!$B$1=3,desc!$C$57,desc!$D$57))) -> Finanzierungsergebnis | R5: =IF(desc!$B$1=1,desc!$A$58,IF(desc!$B$1=2,desc!$B$58,IF(desc!$B$1=3,desc!$C$58,desc!$D$58))) -> Ordentliche Einnahmen | S5: =IF(desc!$B$1=1,desc!$A$59,IF(desc!$B$1=2,desc!$B$59,IF(desc!$B$1=3,desc!$C$59,desc!$D$59))) -> Ordentliche Ausgaben | T5: =IF(desc!$B$1=1,desc!$A$60,IF(desc!$B$1=2,desc!$B$60,IF(desc!$B$1=3,desc!$C$60,desc!$D$60))) -> Ordentliches Finanzierungsergebnis | U5: =IF(desc!$B$1=1,desc!$A$55,IF(desc!$B$1=2,desc!$B$55,IF(desc!$B$1=3,desc!$C$55,desc!$D$55))) -> Einnahmen | V5: =IF(desc!$B$1=1,desc!$A$56,IF(desc!$B$1=2,desc!$B$56,IF(desc!$B$1=3,desc!$C$56,desc!$D$56))) -> Ausgaben | W5: =IF(desc!$B$1=1,desc!$A$57,IF(desc!$B$1=2,desc!$B$57,IF(desc!$B$1=3,desc!$C$57,desc!$D$57))) -> Finanzierungsergebnis | X5: =IF(desc!$B$1=1,desc!$A$58,IF(desc!$B$1=2,desc!$B$58,IF(desc!$B$1=3,desc!$C$58,desc!$D$58))) -> Ordentliche Einnahmen | Y5: =IF(desc!$B$1=1,desc!$A$59,IF(desc!$B$1=2,desc!$B$59,IF(desc!$B$1=3,desc!$C$59,desc!$D$59))) -> Ordentliche Ausgaben | Z5: =IF(desc!$B$1=1,desc!$A$60,IF(desc!$B$1=2,desc!$B$60,IF(desc!$B$1=3,desc!$C$60,desc!$D$60))) -> Ordentliches Finanzierungsergebnis | AA5: =IF(desc!$B$1=1,desc!$A$55,IF(desc!$B$1=2,desc!$B$55,IF(desc!$B$1=3,desc!$C$55,desc!$D$55))) -> Einnahmen | AB5: =IF(desc!$B$1=1,desc!$A$56,IF(desc!$B$1=2,desc!$B$56,IF(desc!$B$1=3,desc!$C$56,desc!$D$56))) -> Ausgaben | AC5: =IF(desc!$B$1=1,desc!$A$57,IF(desc!$B$1=2,desc!$B$57,IF(desc!$B$1=3,desc!$C$57,desc!$D$57))) -> Finanzierungsergebnis | AD5: =IF(desc!$B$1=1,desc!$A$58,IF(desc!$B$1=2,desc!$B$58,IF(desc!$B$1=3,desc!$C$58,desc!$D$58))) -> Ordentliche Einnahmen | AE5: =IF(desc!$B$1=1,desc!$A$59,IF(desc!$B$1=2,desc!$B$59,IF(desc!$B$1=3,desc!$C$59,desc!$D$59))) -> Ordentliche Ausgaben | AF5: =IF(desc!$B$1=1,desc!$A$60,IF(desc!$B$1=2,desc!$B$60,IF(desc!$B$1=3,desc!$C$60,desc!$D$60))) -> Ordentliches Finanzierungsergebnis | AG5: =IF(desc!$B$1=1,desc!$A$55,IF(desc!$B$1=2,desc!$B$55,IF(desc!$B$1=3,desc!$C$55,desc!$D$55))) -> Einnahmen | AH5: =IF(desc!$B$1=1,desc!$A$56,IF(desc!$B$1=2,desc!$B$56,IF(desc!$B$1=3,desc!$C$56,desc!$D$56))) -> Ausgaben | AI5: =IF(desc!$B$1=1,desc!$A$57,IF(desc!$B$1=2,desc!$B$57,IF(desc!$B$1=3,desc!$C$57,desc!$D$57))) -> Finanzierungsergebnis | AJ5: =IF(desc!$B$1=1,desc!$A$58,IF(desc!$B$1=2,desc!$B$58,IF(desc!$B$1=3,desc!$C$58,desc!$D$58))) -> Ordentliche Einnahmen | AK5: =IF(desc!$B$1=1,desc!$A$59,IF(desc!$B$1=2,desc!$B$59,IF(desc!$B$1=3,desc!$C$59,desc!$D$59))) -> Ordentliche Ausgaben | AL5: =IF(desc!$B$1=1,desc!$A$60,IF(desc!$B$1=2,desc!$B$60,IF(desc!$B$1=3,desc!$C$60,desc!$D$60))) -> Ordentliches Finanzierungsergebnis | AM5: =IF(desc!$B$1=1,desc!$A$61,IF(desc!$B$1=2,desc!$B$61,IF(desc!$B$1=3,desc!$C$61,desc!$D$61))) -> Aktiven | AN5: =IF(desc!$B$1=1,desc!$A$62,IF(desc!$B$1=2,desc!$B$62,IF(desc!$B$1=3,desc!$C$62,desc!$D$62))) -> Fremdkapital | AO5: =IF(desc!$B$1=1,desc!$A$63,IF(desc!$B$1=2,desc!$B$63,IF(desc!$B$1=3,desc!$C$63,desc!$D$63))) -> Eigenkapital | AP5: =IF(desc!$B$1=1,desc!$A$61,IF(desc!$B$1=2,desc!$B$61,IF(desc!$B$1=3,desc!$C$61,desc!$D$61))) -> Aktiven | AQ5: =IF(desc!$B$1=1,desc!$A$62,IF(desc!$B$1=2,desc!$B$62,IF(desc!$B$1=3,desc!$C$62,desc!$D$62))) -> Fremdkapital | AR5: =IF(desc!$B$1=1,desc!$A$63,IF(desc!$B$1=2,desc!$B$63,IF(desc!$B$1=3,desc!$C$63,desc!$D$63))) -> Eigenkapital | AS5: =IF(desc!$B$1=1,desc!$A$61,IF(desc!$B$1=2,desc!$B$61,IF(desc!$B$1=3,desc!$C$61,desc!$D$61))) -> Aktiven | AT5: =IF(desc!$B$1=1,desc!$A$62,IF(desc!$B$1=2,desc!$B$62,IF(desc!$B$1=3,desc!$C$62,desc!$D$62))) -> Fremdkapital | AU5: =IF(desc!$B$1=1,desc!$A$63,IF(desc!$B$1=2,desc!$B$63,IF(desc!$B$1=3,desc!$C$63,desc!$D$63))) -> Eigenkapital | AV5: =IF(desc!$B$1=1,desc!$A$61,IF(desc!$B$1=2,desc!$B$61,IF(desc!$B$1=3,desc!$C$61,desc!$D$61))) -> Aktiven | AW5: =IF(desc!$B$1=1,desc!$A$62,IF(desc!$B$1=2,desc!$B$62,IF(desc!$B$1=3,desc!$C$62,desc!$D$62))) -> Fremdkapital | AX5: =IF(desc!$B$1=1,desc!$A$63,IF(desc!$B$1=2,desc!$B$63,IF(desc!$B$1=3,desc!$C$63,desc!$D$63))) -> Eigenkapital | AY5: =IF(desc!$B$1=1,desc!$A$61,IF(desc!$B$1=2,desc!$B$61,IF(desc!$B$1=3,desc!$C$61,desc!$D$61))) -> Aktiven | AZ5: =IF(desc!$B$1=1,desc!$A$62,IF(desc!$B$1=2,desc!$B$62,IF(desc!$B$1=3,desc!$C$62,desc!$D$62))) -> Fremdkapital | BA5: =IF(desc!$B$1=1,desc!$A$63,IF(desc!$B$1=2,desc!$B$63,IF(desc!$B$1=3,desc!$C$63,desc!$D$63))) -> Eigenkapital | BB5: =IF(desc!$B$1=1,desc!$A$61,IF(desc!$B$1=2,desc!$B$61,IF(desc!$B$1=3,desc!$C$61,desc!$D$61))) -> Aktiven | BC5: =IF(desc!$B$1=1,desc!$A$62,IF(desc!$B$1=2,desc!$B$62,IF(desc!$B$1=3,desc!$C$62,desc!$D$62))) -> Fremdkapital | BD5: =IF(desc!$B$1=1,desc!$A$63,IF(desc!$B$1=2,desc!$B$63,IF(desc!$B$1=3,desc!$C$63,desc!$D$63))) -> Eigenkapital
A24: 1990 | C24: 105286.67 | D24: 106088.89 | E24: -802.22265 | F24: 105282.71 | G24: 106088.89 | H24: -806.17293 | I24: 84286.63 | J24: 87867.655 | K24: -3581.0245 | L24: 84282.68 | M24: 87867.655 | N24: -3584.9748 | O24: 31793.579 | P24: 32637.392 | Q24: -843.81311 | R24: 31789.628 | S24: 32637.392 | T24: -847.76339 | U24: 39368.989 | V24: 41158.761 | W24: -1789.7725 | X24: 39368.989 | Y24: 41158.761 | Z24: -1789.7725 | AA24: 29414.499 | AB24: 30240.138 | AC24: -825.63959 | AD24: 29414.499 | AE24: 30240.138 | AF24: -825.63959 | AG24: 26851.931 | AH24: 24073.129 | AI24: 2778.8019 | AJ24: 26851.931 | AK24: 24073.129 | AL24: 2778.8019 | AM24: 0 | AN24: 0 | AO24: 0 | AP24: 0 | AQ24: 0 | AR24: 0 | AS24: 26298.897 | AT24: 43752.473 | AU24: -17453.576 | AV24: 41727.221 | AW24: 34924.47 | AX24: 6802.7492 | AY24: 0 | AZ24: 0 | BA24: 0 | BB24: 23524.691 | BC24: 86.484587 | BD24: 23438.206 | BE24: 105469.86 | BF24: 105413.28 | BG24: 38769.412 | BH24: 29210.039 | BI24: 37433.831 | BJ24: 56.581981 | BK24: 45238.462 | BL24: 62566.714 | BM24: 30163.722 | BN24: 16430.525 | BO24: 15972.468 | BP24: -17328.253
A25: 1991 | C25: 110352.62 | D25: 117888.99 | E25: -7536.3695 | F25: 110335.24 | G25: 117888.99 | H25: -7553.7519 | I25: 87624.964 | J25: 97518.775 | K25: -9893.8112 | L25: 87607.581 | M25: 97518.775 | N25: -9911.1936 | O25: 32644.227 | P25: 36599.433 | Q25: -3955.2058 | R25: 32626.845 | S25: 36599.433 | T25: -3972.5881 | U25: 41961.385 | V25: 45688.267 | W25: -3726.8814 | X25: 41961.385 | Y25: 45688.267 | Z25: -3726.8814 | AA25: 31079.815 | AB25: 33232.749 | AC25: -2152.9344 | AD25: 31079.815 | AE25: 33232.749 | AF25: -2152.9344 | AG25: 29086.73 | AH25: 26729.288 | AI25: 2357.4417 | AJ25: 29086.73 | AK25: 26729.288 | AL25: 2357.4417 | AM25: 0 | AN25: 0 | AO25: 0 | AP25: 0 | AQ25: 0 | AR25: 0 | AS25: 27699.958 | AT25: 48212.711 | AU25: -20512.753 | AV25: 43619.053 | AW25: 38620.334 | AX25: 4998.7197 | AY25: 0 | AZ25: 0 | BA25: 0 | BB25: 26246.061 | BC25: 151.39973 | BD25: 26101.898 | BE25: 117413.5 | BF25: 117389.1 | BG25: 44145.218 | BH25: 33176.763 | BI25: 40067.119 | BJ25: 24.396073 | BK25: 51689.332 | BL25: 70766.845 | BM25: 33552.419 | BN25: 19659.757 | BO25: 17554.669 | BP25: -19077.513
A26: 1992 | C26: 116215.33 | D26: 128671.22 | E26: -12455.89 | F26: 116210.54 | G26: 128671.22 | H26: -12460.678 | I26: 92460.582 | J26: 104599.69 | K26: -12139.104 | L26: 92455.794 | M26: 104599.69 | N26: -12143.892 | O26: 33936.188 | P26: 38936.171 | Q26: -4999.9829 | R26: 33931.4 | S26: 38936.171 | T26: -5004.771 | U26: 44326.892 | V26: 48434.77 | W26: -4107.8784 | X26: 44326.892 | Y26: 48434.77 | Z26: -4107.8784 | AA26: 33331.611 | AB26: 35966.131 | AC26: -2634.5202 | AD26: 33331.611 | AE26: 35966.131 | AF26: -2634.5202 | AG26: 30763.524 | AH26: 31080.31 | AI26: -316.78654 | AJ26: 30763.524 | AK26: 31080.31 | AL26: -316.78654 | AM26: 0 | AN26: 0 | AO26: 0 | AP26: 0 | AQ26: 0 | AR26: 0 | AS26: 33207.599 | AT26: 57716.434 | AU26: -24508.835 | AV26: 46456.656 | AW26: 44561.592 | AX26: 1895.0601 | AY26: 0 | AZ26: 0 | BA26: 0 | BB26: 26583.405 | BC26: 851.29096 | BD26: 25732.114 | BE26: 137933.68 | BF26: 137890.88 | BG26: 55525.372 | BH26: 38358.576 | BI26: 44006.928 | BJ26: 716.79211 | BK26: 63257.893 | BL26: 82178.604 | BM26: 37913.277 | BN26: 24191.162 | BO26: 20074.164 | BP26: -18246.727
A27: 1993 | C27: 123187.79 | D27: 141500.86 | E27: -18313.078 | F27: 123182.89 | G27: 141500.86 | H27: -18317.972 | I27: 95916.334 | J27: 112645.04 | K27: -16728.707 | L27: 95911.439 | M27: 112645.04 | N27: -16733.602 | O27: 32700.93 | P27: 42396.263 | Q27: -9695.3331 | R27: 32696.036 | S27: 42396.263 | T27: -9700.2275 | U27: 47134.087 | V27: 52540.433 | W27: -5406.3465 | X27: 47134.087 | Y27: 52540.433 | Z27: -5406.3465 | AA27: 35880.747 | AB27: 37075.851 | AC27: -1195.1038 | AD27: 35880.747 | AE27: 37075.851 | AF27: -1195.1038 | AG27: 34798.943 | AH27: 36383.313 | AI27: -1584.3704 | AJ27: 34798.943 | AK27: 36383.313 | AL27: -1584.3704 | AM27: 0 | AN27: 0 | AO27: 0 | AP27: 0 | AQ27: 0 | AR27: 0 | AS27: 40705.395 | AT27: 71384.765 | AU27: -30679.37 | AV27: 50741.4 | AW27: 51019.225 | AX27: -277.82514 | AY27: 0 | AZ27: 0 | BA27: 0 | BB27: 28655.113 | BC27: 4543.3088 | BD27: 24111.805 | BE27: 157705.81 | BF27: 157599.97 | BG27: 67693.392 | BH27: 44675.022 | BI27: 45231.56 | BJ27: 4205.8384 | BK27: 75028.034 | BL27: 95319.411 | BM27: 46297.053 | BN27: 29900.359 | BO27: 19121.999 | BP27: -16191.378
A28: 1994 | C28: 129253.64 | D28: 142469.09 | E28: -13215.454 | F28: 129247.34 | G28: 142421.09 | H28: -13173.754 | I28: 101802.23 | J28: 113231.62 | K28: -11429.391 | L28: 101795.93 | M28: 113183.62 | N28: -11387.691 | O28: 36018.073 | P28: 42901.852 | Q28: -6883.7795 | R28: 36011.773 | S28: 42853.852 | T28: -6842.0795 | U28: 48970.624 | V28: 52593.752 | W28: -3623.1276 | X28: 48970.624 | Y28: 52593.752 | Z28: -3623.1276 | AA28: 36972.727 | AB28: 37867.656 | AC28: -894.92981 | AD28: 36972.727 | AE28: 37867.656 | AF28: -894.92981 | AG28: 35254.631 | AH28: 37040.695 | AI28: -1786.0639 | AJ28: 35254.631 | AK28: 37040.695 | AL28: -1786.0639 | AM28: 0 | AN28: 0 | AO28: 0 | AP28: 0 | AQ28: 0 | AR28: 0 | AS28: 43441.12 | AT28: 79787.003 | AU28: -36345.883 | AV28: 53862.464 | AW28: 56477.853 | AX28: -2615.3895 | AY28: 0 | AZ28: 0 | BA28: 0 | BB28: 29214.712 | BC28: 6952.899 | BD28: 22261.813 | BE28: 171755.61 | BF28: 171610.2 | BG28: 75888.422 | BH28: 48969.843 | BI28: 46751.93 | BJ28: 6545.4133 | BK28: 87001.539 | BL28: 107519.68 | BM28: 52982.536 | BN28: 34348.697 | BO28: 20188.444 | BP28: -14118.139
A29: 1995 | C29: 134921.06 | D29: 142045.19 | E29: -7124.1335 | F29: 134870.12 | G29: 142005.19 | H29: -7135.069 | I29: 105367.24 | J29: 112592.18 | K29: -7224.9441 | L29: 105316.3 | M29: 112552.18 | N29: -7235.8797 | O29: 37639.091 | P29: 42415.16 | Q29: -4776.0689 | R29: 37588.156 | S29: 42375.16 | T29: -4787.0044 | U29: 50394.257 | V29: 52204.531 | W29: -1810.2737 | X29: 50394.257 | Y29: 52204.531 | Z29: -1810.2737 | AA29: 37582.806 | AB29: 38422.838 | AC29: -840.03232 | AD29: 37582.806 | AE29: 38422.838 | AF29: -840.03232 | AG29: 37841.634 | AH29: 37740.823 | AI29: 100.81065 | AJ29: 37841.634 | AK29: 37740.823 | AL29: 100.81065 | AM29: 0 | AN29: 0 | AO29: 0 | AP29: 0 | AQ29: 0 | AR29: 0 | AS29: 49771.986 | AT29: 91083.038 | AU29: -41311.051 | AV29: 54114.646 | AW29: 58800.736 | AX29: -4686.0907 | AY29: 0 | AZ29: 0 | BA29: 0 | BB29: 28791.807 | BC29: 6377.8346 | BD29: 22413.972 | BE29: 181361.38 | BF29: 181268.9 | BG29: 82337.447 | BH29: 51040.032 | BI29: 47891.421 | BJ29: 5892.4835 | BK29: 95548.154 | BL29: 115362.89 | BM29: 57677.943 | BN29: 36756.63 | BO29: 20928.312 | BP29: -14014.732
A30: 1996 | C30: 139144.34 | D30: 148070.55 | E30: -8926.2074 | F30: 139135.27 | G30: 148008.77 | H30: -8873.5069 | I30: 109293.96 | J30: 117780.39 | K30: -8486.4284 | L30: 109284.88 | M30: 117718.61 | N30: -8433.7279 | O30: 39900.851 | P30: 45637.253 | Q30: -5736.4023 | R30: 39891.776 | S30: 45575.478 | T30: -5683.7017 | U30: 53242.838 | V30: 55312.477 | W30: -2069.639 | X30: 53242.838 | Y30: 55312.477 | Z30: -2069.639 | AA30: 38195.967 | AB30: 38692.277 | AC30: -496.30976 | AD30: 38195.967 | AE30: 38692.277 | AF30: -496.30976 | AG30: 39104.481 | AH30: 39544.26 | AI30: -439.77902 | AJ30: 39104.481 | AK30: 39544.26 | AL30: -439.77902 | AM30: 0 | AN30: 0 | AO30: 0 | AP30: 0 | AQ30: 0 | AR30: 0 | AS30: 46970.667 | AT30: 93886.916 | AU30: -46916.249 | AV30: 56301.969 | AW30: 63212.256 | AX30: -6910.2874 | AY30: 0 | AZ30: 0 | BA30: 0 | BB30: 28858.401 | BC30: 6812.0782 | BD30: 22046.323 | BE30: 192408.64 | BF30: 192183.58 | BG30: 88587.57 | BH30: 54474.242 | BI30: 49121.772 | BJ30: 6425.0554 | BK30: 103414.44 | BL30: 123192.6 | BM30: 63162.404 | BN30: 39893.221 | BO30: 20136.971 | BP30: -13578.153
A31: 1997 | C31: 140297.03 | D31: 152230.4 | E31: -11933.368 | F31: 140272.34 | G31: 152186.06 | H31: -11913.72 | I31: 110020.19 | J31: 118850.52 | K31: -8830.3286 | L31: 109995.5 | M31: 118806.18 | N31: -8810.6807 | O31: 40339.494 | P31: 45883.729 | Q31: -5544.2355 | R31: 40314.801 | S31: 45839.389 | T31: -5524.5876 | U31: 54180.35 | V31: 57043.404 | W31: -2863.0542 | X31: 54180.35 | Y31: 57043.404 | Z31: -2863.0542 | AA31: 37889.837 | AB31: 38467.422 | AC31: -577.5856 | AD31: 37889.837 | AE31: 38467.422 | AF31: -577.5856 | AG31: 39768.298 | AH31: 42871.337 | AI31: -3103.0391 | AJ31: 39768.298 | AK31: 42871.337 | AL31: -3103.0391 | AM31: 0 | AN31: 0 | AO31: 0 | AP31: 0 | AQ31: 0 | AR31: 0 | AS31: 50282.841 | AT31: 102595.44 | AU31: -52312.599 | AV31: 58360.525 | AW31: 67504.986 | AX31: -9144.4612 | AY31: 0 | AZ31: 0 | BA31: 0 | BB31: 29257.879 | BC31: 9502.3985 | BD31: 19755.48 | BE31: 204367.44 | BF31: 204102.59 | BG31: 97238.576 | BH31: 58244.493 | BI31: 48619.525 | BJ31: 8464.8489 | BK31: 112764.17 | BL31: 132672.58 | BM31: 68926.507 | BN31: 43567.735 | BO31: 20178.336 | BP31: -11708.411
A32: 1998 | C32: 150765.21 | D32: 153603.24 | E32: -2838.0315 | F32: 148069.27 | G32: 151983.82 | H32: -3914.5531 | I32: 120707.13 | J32: 121514.24 | K32: -807.11744 | L32: 118011.19 | M32: 119894.83 | N32: -1883.639 | O32: 48527.696 | P32: 48436.008 | Q32: 91.68812 | R32: 45831.758 | S32: 46816.592 | T32: -984.83342 | U32: 56565.193 | V32: 57331.511 | W32: -766.31782 | X32: 56565.193 | Y32: 57331.511 | Z32: -766.31782 | AA32: 38765.504 | AB32: 39322.983 | AC32: -557.47865 | AD32: 38765.504 | AE32: 39322.983 | AF32: -557.47865 | AG32: 40343.576 | AH32: 42374.49 | AI32: -2030.9141 | AJ32: 40343.576 | AK32: 42374.49 | AL32: -2030.9141 | AM32: 0 | AN32: 0 | AO32: 0 | AP32: 0 | AQ32: 0 | AR32: 0 | AS32: 62723.036 | AT32: 115450.75 | AU32: -52727.718 | AV32: 61213.53 | AW32: 70611.985 | AX32: -9398.4543 | AY32: 0 | AZ32: 0 | BA32: 0 | BB32: 28011.761 | BC32: 10536.084 | BD32: 17475.676 | BE32: 220898.35 | BF32: 220638.31 | BG32: 109788.05 | BH32: 61670.122 | BI32: 49180.136 | BJ32: 9060.0438 | BK32: 120974.76 | BL32: 138247.48 | BM32: 71838.113 | BN32: 45344.04 | BO32: 21065.327 | BP32: -8472.7242
A33: 1999 | C33: 150964.07 | D33: 151308 | E33: -343.92366 | F33: 150963.06 | G33: 151287.49 | H33: -324.4244 | I33: 119802.4 | J33: 120647.48 | K33: -845.08247 | L33: 119801.39 | M33: 120626.97 | N33: -825.58322 | O33: 44478.726 | P33: 47700.908 | Q33: -3222.1823 | R33: 44477.718 | S33: 47530.394 | T33: -3052.676 | U33: 59092.079 | V33: 58122.759 | W33: 969.32062 | X33: 59092.079 | Y33: 58122.759 | Z33: 969.32062 | AA33: 40538.571 | AB33: 39708.79 | AC33: 829.78085 | AD33: 40538.571 | AE33: 39708.79 | AF33: 829.78085 | AG33: 42762.339 | AH33: 42261.181 | AI33: 501.15882 | AJ33: 42762.339 | AK33: 42261.181 | AL33: 501.15882 | AM33: 0 | AN33: 0 | AO33: 0 | AP33: 0 | AQ33: 0 | AR33: 0 | AS33: 35311.255 | AT33: 107703.24 | AU33: -72391.986 | AV33: 61130.183 | AW33: 70088.941 | AX33: -8958.7577 | AY33: 0 | AZ33: 0 | BA33: 0 | BB33: 27124.683 | BC33: 9200.2361 | BD33: 17924.447 | BE33: 212831.5 | BF33: 212596.17 | BG33: 102426.1 | BH33: 61741.348 | BI33: 48428.725 | BJ33: 8035.3341 | BK33: 134962.43 | BL33: 153199.59 | BM33: 87949.64 | BN33: 45487.108 | BO33: 19762.841 | BP33: -10437.159
A34: 2000 | C34: 166215.36 | D34: 154180.98 | E34: 12034.383 | F34: 165613.29 | G34: 154184.7 | H34: 11428.588 | I34: 133631.69 | J34: 124978.93 | K34: 8652.7655 | L34: 133029.62 | M34: 124982.65 | N34: 8046.971 | O34: 53790.541 | P34: 49783.473 | Q34: 4007.0681 | R34: 53188.472 | S34: 49787.199 | T34: 3401.2736 | U34: 63159.531 | V34: 60315.216 | W34: 2844.3157 | X34: 63159.531 | Y34: 60315.216 | Z34: 2844.3157 | AA34: 42062.425 | AB34: 40594.041 | AC34: 1468.3843 | AD34: 42062.425 | AE34: 40594.041 | AF34: 1468.3843 | AG34: 44949.197 | AH34: 41567.579 | AI34: 3381.6172 | AJ34: 44949.197 | AK34: 41567.579 | AL34: 3381.6172 | AM34: 0 | AN34: 0 | AO34: 0 | AP34: 0 | AQ34: 0 | AR34: 0 | AS34: 45869.346 | AT34: 117390.36 | AU34: -71521.013 | AV34: 61836.084 | AW34: 75245.552 | AX34: -13409.469 | AY34: 0 | AZ34: 0 | BA34: 0 | BB34: 28112.83 | BC34: 6680.8251 | BD34: 21432.005 | BE34: 220616.47 | BF34: 220551.56 | BG34: 108356.01 | BH34: 63141.266 | BI34: 49054.289 | BJ34: 5764.9103 | BK34: 143186.75 | BL34: 164600.5 | BM34: 95910.727 | BN34: 49013.942 | BO34: 19675.834 | BP34: -15713.758
A35: 2001 | C35: 166607.93 | D35: 162383.82 | E35: 4224.115 | F35: 166403.94 | G35: 161294.19 | H35: 5109.7509 | I35: 132634.41 | J35: 131931.69 | K35: 702.71206 | L35: 132430.42 | M35: 130842.07 | N35: 1588.3479 | O35: 51028.435 | P35: 52734.568 | Q35: -1706.1324 | R35: 50824.445 | S35: 51644.942 | T35: -820.49651 | U35: 65403.677 | V35: 64007.504 | W35: 1396.1723 | X35: 65403.677 | Y35: 64007.504 | Z35: 1396.1723 | AA35: 43027.972 | AB35: 41704.058 | AC35: 1323.9147 | AD35: 43027.972 | AE35: 41704.058 | AF35: 1323.9147 | AG35: 46955.36 | AH35: 43433.957 | AI35: 3521.4029 | AJ35: 46955.36 | AK35: 43433.957 | AL35: 3521.4029 | AM35: 0 | AN35: 0 | AO35: 0 | AP35: 0 | AQ35: 0 | AR35: 0 | AS35: 36936.824 | AT35: 114656.04 | AU35: -77719.213 | AV35: 63481.598 | AW35: 76521.992 | AX35: -13040.395 | AY35: 0 | AZ35: 0 | BA35: 0 | BB35: 27058.398 | BC35: 3248.2341 | BD35: 23810.164 | BE35: 219645.16 | BF35: 219498.17 | BG35: 107060.21 | BH35: 63322.577 | BI35: 49115.39 | BJ35: 2466.9864 | BK35: 148369.48 | BL35: 170126.27 | BM35: 103776.57 | BN35: 47651.161 | BO35: 18698.542 | BP35: -19436.789
... A58: 2024 | C58: 265611.58 | D58: 260525.35 | E58: 5086.2392 | F58: 265310.01 | G58: 258866.48 | H58: 6443.5279 | I58: 208728.31 | J58: 208792.26 | K58: -63.952723 | L58: 208426.73 | M58: 207339.78 | N58: 1086.9529 | O58: 86550.46 | P58: 86396.607 | Q58: 153.85303 | R58: 86293.791 | S58: 84976.945 | T58: 1316.8453 | U58: 109065.14 | V58: 109187.32 | W58: -122.18335 | X58: 107921.21 | Y58: 107895.14 | Z58: 26.072151 | AA58: 58446.523 | AB58: 58542.145 | AC58: -95.62241 | AD58: 58127.293 | AE58: 58383.258 | AF58: -255.96447 | AG58: 77441.526 | AH58: 72291.334 | AI58: 5150.1919 | AJ58: 77441.526 | AK58: 72084.951 | AL58: 5356.5749 | AM58: 555991.29 | AN58: 357961.72 | AO58: 199394.53 | AP58: 496040.3 | AQ58: 358017.55 | AR58: 139387.71 | AS58: 196924.14 | AT58: 190735.08 | AU58: 6189.0595 | AV58: 145979.09 | AW58: 95850.637 | AX58: 50651.916 | AY58: 153137.07 | AZ58: 71431.828 | BA58: 82546.74 | BB58: 61892.126 | BC58: 1885.3145 | BD58: 60006.812 | BE58: 261793.18 | BF58: 263191.82 | BG58: 130805.78 | BH58: 71421.383 | BI58: 60964.665 | BJ58: 542.49611 | BK58: 107631.42 | BL58: 167653.17 | BM58: 141838.98 | BN58: 23611.589 | BO58: 2202.6088 | BP58: -58080.615
A59: 2025 | C59: 276584.91 | D59: 272285.37 | E59: 4299.5409 | F59: 275981.35 | G59: 270627.78 | H59: 5353.5709 | I59: 218519.23 | J59: 217542.64 | K59: 976.59468 | L59: 217915.67 | M59: 215885.05 | N59: 2030.6246 | O59: 88922.577 | P59: 89826.69 | Q59: -904.11289 | R59: 88319.739 | S59: 88276.69 | T59: 43.049065 | U59: 116675.53 | V59: 114385.1 | W59: 2290.4376 | X59: 115974.81 | Y59: 113577.51 | Z59: 2397.3056 | AA59: 59522.607 | AB59: 59932.337 | AC59: -409.73006 | AD59: 59522.607 | AE59: 59932.337 | AF59: -409.73006 | AG59: 79061.223 | AH59: 75738.277 | AI59: 3322.9463 | AJ59: 79061.223 | AK59: 75738.277 | AL59: 3322.9463 | AM59: #N/A | AN59: #N/A | AO59: #N/A | AP59: #N/A | AQ59: #N/A | AR59: #N/A | AS59: #N/A | AT59: #N/A | AU59: #N/A | AV59: #N/A | AW59: #N/A | AX59: #N/A | AY59: #N/A | AZ59: #N/A | BA59: #N/A | BB59: #N/A | BC59: #N/A | BD59: #N/A | BE59: 261838 | BF59: 262453.4 | BG59: 131531.85 | BH59: 69584.498 | BI59: 61337.049 | BJ59: 487.97457 | BK59: 104297.65 | BL59: 166617.13 | BM59: 142510.12 | BN59: 21633.179 | BO59: 2473.8332 | BP59: -61216.12
A60: 2026 | C60: 282155.48 | D60: 281694.07 | E60: 461.41486 | F60: 282173.75 | G60: 280984.54 | H60: 1189.2162 | I60: 222941.35 | J60: 222717.73 | K60: 223.61886 | L60: 222959.63 | M60: 222008.21 | N60: 951.42016 | O60: 92581.577 | P60: 93429.719 | Q60: -848.1412 | R60: 92550.954 | S60: 92829.719 | T60: -278.7649 | U60: 118823.1 | V60: 117282.16 | W60: 1540.9493 | X60: 118272 | Y60: 116572.63 | Z60: 1699.3743 | AA60: 60972.886 | AB60: 61442.075 | AC60: -469.18921 | AD60: 60972.886 | AE60: 61442.075 | AF60: -469.18921 | AG60: 81337.406 | AH60: 81099.61 | AI60: 237.796 | AJ60: 81337.406 | AK60: 81099.61 | AL60: 237.796 | AM60: #N/A | AN60: #N/A | AO60: #N/A | AP60: #N/A | AQ60: #N/A | AR60: #N/A | AS60: #N/A | AT60: #N/A | AU60: #N/A | AV60: #N/A | AW60: #N/A | AX60: #N/A | AY60: #N/A | AZ60: #N/A | BA60: #N/A | BB60: #N/A | BC60: #N/A | BD60: #N/A | BE60: 261647.82 | BF60: 262258.83 | BG60: 132212.97 | BH60: 68282.388 | BI60: 61763.473 | BJ60: 484.07291 | BK60: 103690.7 | BL60: 166226.29 | BM60: 143139.72 | BN60: 20302.154 | BO60: 2784.4172 | BP60: -61440.502
A61: 2027 | C61: 290039.28 | D61: 287105.3 | E61: 2933.985 | F61: 290007.73 | G61: 287046.07 | H61: 2961.6628 | I61: 228572.29 | J61: 228029.37 | K61: 542.91834 | L61: 228540.74 | M61: 227970.14 | N61: 570.59614 | O61: 96240.957 | P61: 96296.451 | Q61: -55.494036 | R61: 96210.51 | S61: 96296.451 | T61: -85.941236 | U61: 120166.27 | V61: 119010.77 | W61: 1155.4958 | X61: 120165.16 | Y61: 118951.54 | Z61: 1213.6208 | AA61: 62087.88 | AB61: 62644.964 | AC61: -557.08343 | AD61: 62087.88 | AE61: 62644.964 | AF61: -557.08343 | AG61: 86141.053 | AH61: 83749.986 | AI61: 2391.0667 | AJ61: 86141.053 | AK61: 83749.986 | AL61: 2391.0667 | AM61: #N/A | AN61: #N/A | AO61: #N/A | AP61: #N/A | AQ61: #N/A | AR61: #N/A | AS61: #N/A | AT61: #N/A | AU61: #N/A | AV61: #N/A | AW61: #N/A | AX61: #N/A | AY61: #N/A | AZ61: #N/A | BA61: #N/A | BB61: #N/A | BC61: #N/A | BD61: #N/A | BE61: 261312.81 | BF61: 261879.79 | BG61: 132257.54 | BH61: 67352.477 | BI61: 62269.779 | BJ61: 444.84127 | BK61: 100929.65 | BL61: 165638.17 | BM61: 143180.91 | BN61: 19304.072 | BO61: 3153.1834 | BP61: -63696.693
A62: 2028 | C62: 296743.33 | D62: 292877.5 | E62: 3865.8236 | F62: 296712.36 | G62: 292820.07 | H62: 3892.2827 | I62: 233661.72 | J62: 233465.84 | K62: 195.885 | L62: 233630.75 | M62: 233408.41 | N62: 222.3441 | O62: 98676.243 | P62: 98391.322 | Q62: 284.92077 | R62: 98646.376 | S62: 98391.322 | T62: 255.05387 | U62: 122453.13 | V62: 121967.07 | W62: 486.06035 | X62: 122452.03 | Y62: 121909.64 | Z62: 542.38635 | AA62: 63272.598 | AB62: 63847.694 | AC62: -575.09612 | AD62: 63272.598 | AE62: 63847.694 | AF62: -575.09612 | AG62: 88712.845 | AH62: 85042.907 | AI62: 3669.9386 | AJ62: 88712.845 | AK62: 85042.907 | AL62: 3669.9386 | AM62: #N/A | AN62: #N/A | AO62: #N/A | AP62: #N/A | AQ62: #N/A | AR62: #N/A | AS62: #N/A | AT62: #N/A | AU62: #N/A | AV62: #N/A | AW62: #N/A | AX62: #N/A | AY62: #N/A | AZ62: #N/A | BA62: #N/A | BB62: #N/A | BC62: #N/A | BD62: #N/A | BE62: 261258.66 | BF62: 261758.07 | BG62: 132028.72 | BH62: 66936.885 | BI62: 62792.456 | BJ62: 384.62642 | BK62: 97343.857 | BL62: 165387.51 | BM62: 142969.41 | BN62: 18884.228 | BO62: 3533.8734 | BP62: -67159.617
A63: 2029 | C63: 304462.12 | D63: 302831 | E63: 1631.1203 | F63: 304430.83 | G63: 302831 | H63: 1599.8299 | I63: 239797.19 | J63: 241141.91 | K63: -1344.7232 | L63: 239765.9 | M63: 241141.91 | N63: -1376.0136 | O63: 100185.77 | P63: 101411.51 | Q63: -1225.7364 | R63: 100154.48 | S63: 101411.51 | T63: -1257.0268 | U63: 125518.35 | V63: 125080.5 | W63: 437.84971 | X63: 125518.35 | Y63: 125080.5 | Z63: 437.84971 | AA63: 64646.042 | AB63: 65202.879 | AC63: -556.83658 | AD63: 64646.042 | AE63: 65202.879 | AF63: -556.83658 | AG63: 91166.061 | AH63: 88190.218 | AI63: 2975.8436 | AJ63: 91166.061 | AK63: 88190.218 | AL63: 2975.8436 | AM63: #N/A | AN63: #N/A | AO63: #N/A | AP63: #N/A | AQ63: #N/A | AR63: #N/A | AS63: #N/A | AT63: #N/A | AU63: #N/A | AV63: #N/A | AW63: #N/A | AX63: #N/A | AY63: #N/A | AZ63: #N/A | BA63: #N/A | BB63: #N/A | BC63: #N/A | BD63: #N/A | BE63: 262468.41 | BF63: 262913.02 | BG63: 133013.09 | BH63: 66601.392 | BI63: 63298.539 | BJ63: 335.8 | BK63: 95539.793 | BL63: 166287.8 | BM63: 143879.3 | BN63: 18506.027 | BO63: 3902.4762 | BP63: -69967.599

Sheet gfs
C1: =IF(desc!$B$1=1,desc!$A$24,IF(desc!$B$1=2,desc!$B$24,IF(desc!$B$1=3,desc!$C$24,desc!$D$24))) -> GFS-Modell
C2: =IF(desc!$B$1=1,desc!$A$50,IF(desc!$B$1=2,desc!$B$50,IF(desc!$B$1=3,desc!$C$50,desc!$D$50))) -> in Millionen CHF | F2: =IF(desc!$B$1=1,desc!$A$44,IF(desc!$B$1=2,desc!$B$44,IF(desc!$B$1=3,desc!$C$44,desc!$D$44))) -> Prognosen
C3: =IF(desc!$B$1=1,desc!$A$65,IF(desc!$B$1=2,desc!$B$65,IF(desc!$B$1=3,desc!$C$65,desc!$D$65))) -> Erfolgs- und Finanzierungsrechnung | AG3: =IF(desc!$B$1=1,desc!$A$69,IF(desc!$B$1=2,desc!$B$69,IF(desc!$B$1=3,desc!$C$69,desc!$D$69))) -> Fiskalertrag | AL3: =IF(desc!$B$1=1,desc!$A$194,IF(desc!$B$1=2,desc!$B$194,IF(desc!$B$1=3,desc!$C$194,desc!$D$194))) -> Fiskalertrag, erweitert | AM3: =IF(desc!$B$1=1,desc!$A$67,IF(desc!$B$1=2,desc!$B$67,IF(desc!$B$1=3,desc!$C$67,desc!$D$67))) -> Fremdkapital ohne Finanzderivate (Schulden nach IWF-Definition) | AR3: =IF(desc!$B$1=1,desc!$A$68,IF(desc!$B$1=2,desc!$B$68,IF(desc!$B$1=3,desc!$C$68,desc!$D$68))) -> Maastricht-Schuld | AW3: =IF(desc!$B$1=1,desc!$A$190,IF(desc!$B$1=2,desc!$B$190,IF(desc!$B$1=3,desc!$C$190,desc!$D$190))) -> Nettoschuld (IWF)
C4: =IF(desc!$B$1=1,desc!$A$32,IF(desc!$B$1=2,desc!$B$32,IF(desc!$B$1=3,desc!$C$32,desc!$D$32))) -> Staat | H4: =IF(desc!$B$1=1,desc!$A$33,IF(desc!$B$1=2,desc!$B$33,IF(desc!$B$1=3,desc!$C$33,desc!$D$33))) -> Bund, Kantone, Gemeinden | M4: =IF(desc!$B$1=1,desc!$A$34,IF(desc!$B$1=2,desc!$B$34,IF(desc!$B$1=3,desc!$C$34,desc!$D$34))) -> Bund | R4: =IF(desc!$B$1=1,desc!$A$35,IF(desc!$B$1=2,desc!$B$35,IF(desc!$B$1=3,desc!$C$35,desc!$D$35))) -> Kantone | W4: =IF(desc!$B$1=1,desc!$A$36,IF(desc!$B$1=2,desc!$B$36,IF(desc!$B$1=3,desc!$C$36,desc!$D$36))) -> Gemeinden | AB4: =IF(desc!$B$1=1,desc!$A$37,IF(desc!$B$1=2,desc!$B$37,IF(desc!$B$1=3,desc!$C$37,desc!$D$37))) -> Sozialversicherungen | AG4: =IF(desc!$B$1=1,desc!$A$32,IF(desc!$B$1=2,desc!$B$32,IF(desc!$B$1=3,desc!$C$32,desc!$D$32))) -> Staat | AH4: =IF(desc!$B$1=1,desc!$A$34,IF(desc!$B$1=2,desc!$B$34,IF(desc!$B$1=3,desc!$C$34,desc!$D$34))) -> Bund | AI4: =IF(desc!$B$1=1,desc!$A$35,IF(desc!$B$1=2,desc!$B$35,IF(desc!$B$1=3,desc!$C$35,desc!$D$35))) -> Kantone | AJ4: =IF(desc!$B$1=1,desc!$A$36,IF(desc!$B$1=2,desc!$B$36,IF(desc!$B$1=3,desc!$C$36,desc!$D$36))) -> Gemeinden | AK4: =IF(desc!$B$1=1,desc!$A$37,IF(desc!$B$1=2,desc!$B$37,IF(desc!$B$1=3,desc!$C$37,desc!$D$37))) -> Sozialversicherungen | AL4: =IF(desc!$B$1=1,desc!$A$32,IF(desc!$B$1=2,desc!$B$32,IF(desc!$B$1=3,desc!$C$32,desc!$D$32))) -> Staat | AM4: =IF(desc!$B$1=1,desc!$A$32,IF(desc!$B$1=2,desc!$B$32,IF(desc!$B$1=3,desc!$C$32,desc!$D$32))) -> Staat | AN4: =IF(desc!$B$1=1,desc!$A$34,IF(desc!$B$1=2,desc!$B$34,IF(desc!$B$1=3,desc!$C$34,desc!$D$34))) -> Bund | AO4: =IF(desc!$B$1=1,desc!$A$35,IF(desc!$B$1=2,desc!$B$35,IF(desc!$B$1=3,desc!$C$35,desc!$D$35))) -> Kantone | AP4: =IF(desc!$B$1=1,desc!$A$36,IF(desc!$B$1=2,desc!$B$36,IF(desc!$B$1=3,desc!$C$36,desc!$D$36))) -> Gemeinden | AQ4: =IF(desc!$B$1=1,desc!$A$37,IF(desc!$B$1=2,desc!$B$37,IF(desc!$B$1=3,desc!$C$37,desc!$D$37))) -> Sozialversicherungen | AR4: =IF(desc!$B$1=1,desc!$A$32,IF(desc!$B$1=2,desc!$B$32,IF(desc!$B$1=3,desc!$C$32,desc!$D$32))) -> Staat | AS4: =IF(desc!$B$1=1,desc!$A$34,IF(desc!$B$1=2,desc!$B$34,IF(desc!$B$1=3,desc!$C$34,desc!$D$34))) -> Bund | AT4: =IF(desc!$B$1=1,desc!$A$35,IF(desc!$B$1=2,desc!$B$35,IF(desc!$B$1=3,desc!$C$35,desc!$D$35))) -> Kantone | AU4: =IF(desc!$B$1=1,desc!$A$36,IF(desc!$B$1=2,desc!$B$36,IF(desc!$B$1=3,desc!$C$36,desc!$D$36))) -> Gemeinden | AV4: =IF(desc!$B$1=1,desc!$A$37,IF(desc!$B$1=2,desc!$B$37,IF(desc!$B$1=3,desc!$C$37,desc!$D$37))) -> Sozialversicherungen | AW4: =IF(desc!$B$1=1,desc!$A$32,IF(desc!$B$1=2,desc!$B$32,IF(desc!$B$1=3,desc!$C$32,desc!$D$32))) -> Staat | AX4: =IF(desc!$B$1=1,desc!$A$34,IF(desc!$B$1=2,desc!$B$34,IF(desc!$B$1=3,desc!$C$34,desc!$D$34))) -> Bund | AY4: =IF(desc!$B$1=1,desc!$A$35,IF(desc!$B$1=2,desc!$B$35,IF(desc!$B$1=3,desc!$C$35,desc!$D$35))) -> Kantone | AZ4: =IF(desc!$B$1=1,desc!$A$36,IF(desc!$B$1=2,desc!$B$36,IF(desc!$B$1=3,desc!$C$36,desc!$D$36))) -> Gemeinden | BA4: =IF(desc!$B$1=1,desc!$A$37,IF(desc!$B$1=2,desc!$B$37,IF(desc!$B$1=3,desc!$C$37,desc!$D$37))) -> Sozialversicherungen
C5: =IF(desc!$B$1=1,desc!$A$70,IF(desc!$B$1=2,desc!$B$70,IF(desc!$B$1=3,desc!$C$70,desc!$D$70))) -> Ertrag | D5: =IF(desc!$B$1=1,desc!$A$71,IF(desc!$B$1=2,desc!$B$71,IF(desc!$B$1=3,desc!$C$71,desc!$D$71))) -> Ausgaben | E5: =IF(desc!$B$1=1,desc!$A$72,IF(desc!$B$1=2,desc!$B$72,IF(desc!$B$1=3,desc!$C$72,desc!$D$72))) -> Aufwand | F5: =IF(desc!$B$1=1,desc!$A$73,IF(desc!$B$1=2,desc!$B$73,IF(desc!$B$1=3,desc!$C$73,desc!$D$73))) -> Nettozugang an Vermögens-gütern | G5: =IF(desc!$B$1=1,desc!$A$74,IF(desc!$B$1=2,desc!$B$74,IF(desc!$B$1=3,desc!$C$74,desc!$D$74))) -> Finanzierungssaldo | H5: =IF(desc!$B$1=1,desc!$A$70,IF(desc!$B$1=2,desc!$B$70,IF(desc!$B$1=3,desc!$C$70,desc!$D$70))) -> Ertrag | I5: =IF(desc!$B$1=1,desc!$A$71,IF(desc!$B$1=2,desc!$B$71,IF(desc!$B$1=3,desc!$C$71,desc!$D$71))) -> Ausgaben | J5: =IF(desc!$B$1=1,desc!$A$72,IF(desc!$B$1=2,desc!$B$72,IF(desc!$B$1=3,desc!$C$72,desc!$D$72))) -> Aufwand | K5: =IF(desc!$B$1=1,desc!$A$73,IF(desc!$B$1=2,desc!$B$73,IF(desc!$B$1=3,desc!$C$73,desc!$D$73))) -> Nettozugang an Vermögens-gütern | L5: =IF(desc!$B$1=1,desc!$A$74,IF(desc!$B$1=2,desc!$B$74,IF(desc!$B$1=3,desc!$C$74,desc!$D$74))) -> Finanzierungssaldo | M5: =IF(desc!$B$1=1,desc!$A$70,IF(desc!$B$1=2,desc!$B$70,IF(desc!$B$1=3,desc!$C$70,desc!$D$70))) -> Ertrag | N5: =IF(desc!$B$1=1,desc!$A$71,IF(desc!$B$1=2,desc!$B$71,IF(desc!$B$1=3,desc!$C$71,desc!$D$71))) -> Ausgaben | O5: =IF(desc!$B$1=1,desc!$A$72,IF(desc!$B$1=2,desc!$B$72,IF(desc!$B$1=3,desc!$C$72,desc!$D$72))) -> Aufwand | P5: =IF(desc!$B$1=1,desc!$A$73,IF(desc!$B$1=2,desc!$B$73,IF(desc!$B$1=3,desc!$C$73,desc!$D$73))) -> Nettozugang an Vermögens-gütern | Q5: =IF(desc!$B$1=1,desc!$A$74,IF(desc!$B$1=2,desc!$B$74,IF(desc!$B$1=3,desc!$C$74,desc!$D$74))) -> Finanzierungssaldo | R5: =IF(desc!$B$1=1,desc!$A$70,IF(desc!$B$1=2,desc!$B$70,IF(desc!$B$1=3,desc!$C$70,desc!$D$70))) -> Ertrag | S5: =IF(desc!$B$1=1,desc!$A$71,IF(desc!$B$1=2,desc!$B$71,IF(desc!$B$1=3,desc!$C$71,desc!$D$71))) -> Ausgaben | T5: =IF(desc!$B$1=1,desc!$A$72,IF(desc!$B$1=2,desc!$B$72,IF(desc!$B$1=3,desc!$C$72,desc!$D$72))) -> Aufwand | U5: =IF(desc!$B$1=1,desc!$A$73,IF(desc!$B$1=2,desc!$B$73,IF(desc!$B$1=3,desc!$C$73,desc!$D$73))) -> Nettozugang an Vermögens-gütern | V5: =IF(desc!$B$1=1,desc!$A$74,IF(desc!$B$1=2,desc!$B$74,IF(desc!$B$1=3,desc!$C$74,desc!$D$74))) -> Finanzierungssaldo | W5: =IF(desc!$B$1=1,desc!$A$70,IF(desc!$B$1=2,desc!$B$70,IF(desc!$B$1=3,desc!$C$70,desc!$D$70))) -> Ertrag | X5: =IF(desc!$B$1=1,desc!$A$71,IF(desc!$B$1=2,desc!$B$71,IF(desc!$B$1=3,desc!$C$71,desc!$D$71))) -> Ausgaben | Y5: =IF(desc!$B$1=1,desc!$A$72,IF(desc!$B$1=2,desc!$B$72,IF(desc!$B$1=3,desc!$C$72,desc!$D$72))) -> Aufwand | Z5: =IF(desc!$B$1=1,desc!$A$73,IF(desc!$B$1=2,desc!$B$73,IF(desc!$B$1=3,desc!$C$73,desc!$D$73))) -> Nettozugang an Vermögens-gütern | AA5: =IF(desc!$B$1=1,desc!$A$74,IF(desc!$B$1=2,desc!$B$74,IF(desc!$B$1=3,desc!$C$74,desc!$D$74))) -> Finanzierungssaldo | AB5: =IF(desc!$B$1=1,desc!$A$70,IF(desc!$B$1=2,desc!$B$70,IF(desc!$B$1=3,desc!$C$70,desc!$D$70))) -> Ertrag | AC5: =IF(desc!$B$1=1,desc!$A$71,IF(desc!$B$1=2,desc!$B$71,IF(desc!$B$1=3,desc!$C$71,desc!$D$71))) -> Ausgaben | AD5: =IF(desc!$B$1=1,desc!$A$72,IF(desc!$B$1=2,desc!$B$72,IF(desc!$B$1=3,desc!$C$72,desc!$D$72))) -> Aufwand | AE5: =IF(desc!$B$1=1,desc!$A$73,IF(desc!$B$1=2,desc!$B$73,IF(desc!$B$1=3,desc!$C$73,desc!$D$73))) -> Nettozugang an Vermögens-gütern | AF5: =IF(desc!$B$1=1,desc!$A$74,IF(desc!$B$1=2,desc!$B$74,IF(desc!$B$1=3,desc!$C$74,desc!$D$74))) -> Finanzierungssaldo
AR7: ok | AS7: ok | AT7: ok | AU7: ok | AV7: ok
AR19: Staat | AS19: Bund | AT19: Kantone | AU19: Gemeinden | AV19: Sozialversicherungen
AR20: Staat | AS20: Bund | AT20: Kantone | AU20: Gemeinden | AV20: Sozialversicherungen
A24: 1990 | C24: 101957.9 | D24: 102192.04 | E24: 98857.534 | F24: 3334.5043 | G24: -234.1383 | H24: 81052.521 | I24: 84065.461 | J24: 80729.947 | K24: 3335.5144 | L24: -3012.9402 | M24: 32896.692 | N24: 33505.712 | O24: 32910.115 | P24: 595.59731 | Q24: -609.02014 | R24: 37359.857 | S24: 38887.436 | T24: 37834.746 | U24: 1052.6902 | V24: -1527.5793 | W24: 25451.684 | X24: 26328.025 | Y24: 24640.798 | Z24: 1687.2269 | AA24: -876.34068 | AB24: 26757.276 | AC24: 23978.474 | AD24: 23979.484 | AE24: -1.0101058 | AF24: 2778.8019 | AG24: 86223.953 | AH24: 29730.513 | AI24: 21512.054 | AJ24: 15059.362 | AK24: 19922.024 | AL24: 113480.58 | AM24: 123961.46 | AN24: 45686.318 | AO24: 35920.446 | AP24: 42274.57 | AQ24: 80.124655 | AR24: 96148.302 | AS24: 36692.098 | AT24: 26690.485 | AU24: 32765.719 | AV24: 0 | AW24: 48592.259 | AX24: 25359.691 | AY24: 20727.847 | AZ24: 25697.319 | BA24: -23192.599
A25: 1991 | C25: 106626.48 | D25: 113662.02 | E25: 109933.44 | F25: 3728.5821 | G25: -7035.5419 | H25: 83958.868 | I25: 93351.851 | J25: 89627.217 | K25: 3724.6346 | L25: -9392.9836 | M25: 33543.317 | N25: 37335.654 | O25: 36879.124 | P25: 456.53056 | Q25: -3792.3367 | R25: 39745.937 | S25: 43121.229 | T25: 41782.792 | U25: 1338.437 | V25: -3375.292 | W25: 27151.159 | X25: 29376.514 | Y25: 27446.847 | Z25: 1929.667 | AA25: -2225.3549 | AB25: 29026.687 | AC25: 26669.245 | AD25: 26665.298 | AE25: 3.9474763 | AF25: 2357.4417 | AG25: 89559.723 | AH25: 30300.812 | AI25: 22061.376 | AJ25: 15699.561 | AK25: 21497.974 | AL25: 118633.51 | AM25: 136409.66 | AN25: 50428.55 | AO25: 40454.077 | AP25: 45268.503 | AQ25: 258.52888 | AR25: 108276.03 | AS25: 42612.242 | AT25: 30421.429 | AU25: 35086.471 | AV25: 155.88477 | AW25: 56016.703 | AX25: 28821.001 | AY25: 24999.108 | AZ25: 27970.897 | BA25: -25774.304
A26: 1992 | C26: 111530.79 | D26: 123139.16 | E26: 119430.86 | F26: 3708.3002 | G26: -11608.365 | H26: 87835.01 | I26: 99126.588 | J26: 95421.404 | K26: 3705.1838 | L26: -11291.578 | M26: 34960.264 | N26: 39661.838 | O26: 39390.178 | P26: 271.66078 | Q26: -4701.574 | R26: 41605.466 | S26: 45443.721 | T26: 44141.586 | U26: 1302.1353 | V26: -3838.2546 | W26: 28446.604 | X26: 31198.354 | Y26: 29066.966 | Z26: 2131.3877 | AA26: -2751.7496 | AB26: 30704.556 | AC26: 31021.343 | AD26: 31018.226 | AE26: 3.116403 | AF26: -316.78654 | AG26: 93177.376 | AH26: 31556.101 | AI26: 22948.693 | AJ26: 16279.143 | AK26: 22393.439 | AL26: 124200.75 | AM26: 156042.41 | AN26: 60111.24 | AO26: 46424.141 | AP26: 49432.14 | AQ26: 748.87295 | AR26: 127696.25 | AS26: 53437.434 | AT26: 35019.501 | AU26: 39239.314 | AV26: 673.98433 | AW26: 68098.697 | AX26: 33014.442 | AY26: 29530.486 | AZ26: 30955.54 | BA26: -25401.772
A27: 1993 | C27: 117898.58 | D27: 130495.15 | E27: 127334.72 | F27: 3160.4316 | G27: -12596.572 | H27: 90659.53 | I27: 101671.73 | J27: 98516.05 | K27: 3155.6813 | L27: -11012.202 | M27: 33773.025 | N27: 40629.28 | O27: 40600.312 | P27: 28.96788 | Q27: -6856.2548 | R27: 44085.507 | S27: 46841.998 | T27: 45337.984 | U27: 1504.0139 | V27: -2756.491 | W27: 30344.895 | X27: 31744.351 | Y27: 30121.652 | Z27: 1622.6996 | AA27: -1399.456 | AB27: 34766.539 | AC27: 36350.909 | AD27: 36346.159 | AE27: 4.750287 | AF27: -1584.3704 | AG27: 97427.859 | AH27: 29921.685 | AI27: 24327.068 | AJ27: 17407.168 | AK27: 25771.939 | AL27: 129183.12 | AM27: 178829.18 | AN27: 74089.81 | AO27: 53216.402 | AP27: 51239.901 | AQ27: 4383.0669 | AR27: 148445.3 | AS27: 66608.67 | AT27: 41586.582 | AU27: 40250.052 | AV27: 4100 | AW27: 81942.617 | AX27: 39751.712 | AY27: 35597.979 | AZ27: 30357.658 | BA27: -23764.732
A28: 1994 | C28: 123257.23 | D28: 133905.99 | E28: 130642.98 | F28: 3263.0121 | G28: -10648.756 | H28: 95955.574 | I28: 104818.27 | J28: 101561.8 | K28: 3256.4708 | L28: -8862.6919 | M28: 37111.553 | N28: 42515.541 | O28: 42531.9 | P28: -16.358343 | Q28: -5403.9887 | R28: 46271.89 | S28: 48545.435 | T28: 46955.915 | U28: 1589.5198 | V28: -2273.5451 | W28: 31039.694 | X28: 32224.852 | Y28: 30541.543 | Z28: 1683.3094 | AA28: -1185.1581 | AB28: 35104.877 | AC28: 36890.941 | AD28: 36884.4 | AE28: 6.5412435 | AF28: -1786.0639 | AG28: 101491.17 | AH28: 32789.186 | AI28: 24880.323 | AJ28: 18077.568 | AK28: 25744.091 | AL28: 133126.17 | AM28: 194679.93 | AN28: 82570.674 | AO28: 58419.828 | AP28: 53322.262 | AQ28: 6767.1621 | AR28: 161096.35 | AS28: 73121.766 | AT28: 45923.506 | AU28: 42051.082 | AV28: 6400 | AW28: 95373.299 | AX28: 45527.355 | AY28: 39972.82 | AZ28: 31770.165 | BA28: -21897.041
